BEGIN:VCALENDAR
VERSION:2.0
CALSCALE:GREGORIAN
PRODID:-//Diputació de Barcelona//DibaCMS//EN
BEGIN:VEVENT
UID:17625
DTSTAMP:20260422T094058
DTSTART:20220621T151500
DTEND:20220621T161500
SUMMARY:Psicomotricitat de 18 a 36 mesos
LOCATION:Carrer Joan Miró, 13-15       08110 Montcada i Reixac
METHOD:PUBLISH
X-WR-CALNAME:oac@montcada.org
X-WR-TIMEZONE:Europe/Madrid
DESCRIPTION:Espai familiar de relació i joc per a nadons de 0 a 36 mesos.

URI:https://www.montcada.cat/actualitat/agenda/17625-psicomotricitat-de-18-a-36-mesos.html
CLASS:PUBLIC
END:VEVENT
END:VCALENDAR
