BEGIN:VCALENDAR
VERSION:2.0
CALSCALE:GREGORIAN
PRODID:-//Diputació de Barcelona//DibaCMS//EN
BEGIN:VEVENT
UID:17624
DTSTAMP:20260422T172708
DTSTART:20220616T151500
DTEND:20220616T161500
SUMMARY:Massatges infantils de 0 a 18 mesos
LOCATION:Carrer Tarragona, 2       08110 Montcada i Reixac
METHOD:PUBLISH
X-WR-CALNAME:oac@montcada.org
X-WR-TIMEZONE:Europe/Madrid
DESCRIPTION:Espai familiar de relació i joc per a nadons de 0 a 36 mesos.

URI:https://www.montcada.cat/actualitat/agenda/massatges-infantils-de-0-a-18-mesos.html
CLASS:PUBLIC
END:VEVENT
END:VCALENDAR
