BEGIN:VCALENDAR
VERSION:2.0
CALSCALE:GREGORIAN
PRODID:-//Diputació de Barcelona//DibaCMS//EN
BEGIN:VEVENT
UID:17622
DTSTAMP:20260422T162211
DTSTART:20220609T151500
DTEND:20220609T161500
SUMMARY:Contes de 18 a 36 mesos
LOCATION:Avinguda de la Unitat, 67 08110 Montcada i Reixac
METHOD:PUBLISH
X-WR-CALNAME:oac@montcada.org
X-WR-TIMEZONE:Europe/Madrid
DESCRIPTION:Espai familiar de relació i joc per a nadons de 0 a 36 mesos.

URI:https://www.montcada.cat/actualitat/agenda/contes-de-18-a-36-mesos.html
CLASS:PUBLIC
END:VEVENT
END:VCALENDAR
