BEGIN:VCALENDAR
VERSION:2.0
CALSCALE:GREGORIAN
PRODID:-//Diputació de Barcelona//DibaCMS//EN
BEGIN:VEVENT
UID:17497
DTSTAMP:20260420T144433
DTSTART:20220521T190000
DTEND:20220521T190000
SUMMARY:Animem Clàudia Pina!
LOCATION:08110 Montcada i Reixac
METHOD:PUBLISH
X-WR-CALNAME:oac@montcada.org
X-WR-TIMEZONE:Europe/Madrid
DESCRIPTION:Segueix la final de la Champions League entre l'Olympic de Lió i el Barça per pantalla gegant.

URI:https://www.montcada.cat/actualitat/agenda/animem-claudia-pina.html
CLASS:PUBLIC
END:VEVENT
END:VCALENDAR
