BEGIN:VCALENDAR
VERSION:2.0
CALSCALE:GREGORIAN
PRODID:-//Diputació de Barcelona//DibaCMS//EN
BEGIN:VEVENT
UID:17495
DTSTAMP:20260423T004156
DTSTART:20220701T180000
DTEND:20220731T200000
SUMMARY:Aprenent amb tu. Especial Ribera Juganera
LOCATION:plaça de la ribera, 0 08110 Montcada i Reixac
METHOD:PUBLISH
X-WR-CALNAME:oac@montcada.org
X-WR-TIMEZONE:Europe/Madrid
DESCRIPTION:Diferents racons i materials de joc, jocs de taula, atelier creatiu, programació d'activitats... per a promoure els vincles, el joc compartit i la creativitat.

URI:https://www.montcada.cat/actualitat/agenda/17495-aprenent-amb-tu-especial-ribera-juganera.html
CLASS:PUBLIC
END:VEVENT
END:VCALENDAR
