BEGIN:VCALENDAR
VERSION:2.0
CALSCALE:GREGORIAN
PRODID:-//Diputació de Barcelona//DibaCMS//EN
BEGIN:VEVENT
UID:17435
DTSTAMP:20260424T214447
DTSTART:20220711T093000
DTEND:20220720T130000
SUMMARY:Taller. Tu, davant l’entrevista: prepara’t per a l’entrevista gestionant les emocions i canviant creences que limiten.
LOCATION:Carrer Alt de Sant Pere, 73       08110 Montcada i Reixac
METHOD:PUBLISH
X-WR-CALNAME:oac@montcada.org
X-WR-TIMEZONE:Europe/Madrid
DESCRIPTION:Per a persones en situació d’atur i /o de millora d’ocupació.

URI:https://www.montcada.cat/actualitat/agenda/taller-tu-davant-lentrevista-preparat-per-a-lentrevista-gestionant-les-emocions-i-canviant-creences-que-limiten.html
CLASS:PUBLIC
END:VEVENT
END:VCALENDAR
