BEGIN:VCALENDAR
VERSION:2.0
CALSCALE:GREGORIAN
PRODID:-//Diputació de Barcelona//DibaCMS//EN
BEGIN:VEVENT
UID:17291
DTSTAMP:20260424T203652
DTSTART:20220512T190000
DTEND:20220512T190000
SUMMARY:Club de lectura jove. Teen Titans Raven
LOCATION: c. Turó, 45       08110 Montcada i Reixac
METHOD:PUBLISH
X-WR-CALNAME:oac@montcada.org
X-WR-TIMEZONE:Europe/Madrid
DESCRIPTION:De Kami García.

URI:https://www.montcada.cat/actualitat/agenda/club-de-lectura-jove-teen-titans-raven.html
CLASS:PUBLIC
END:VEVENT
END:VCALENDAR
