BEGIN:VCALENDAR
VERSION:2.0
CALSCALE:GREGORIAN
PRODID:-//Diputació de Barcelona//DibaCMS//EN
BEGIN:VEVENT
UID:17051
DTSTAMP:20260424T033638
DTSTART:20220328T000000
DTEND:20220408T000000
SUMMARY:Exposició. Transgresivas
LOCATION:Carrer Geranis, s/n       08110 Montcada i Reixac
METHOD:PUBLISH
X-WR-CALNAME:oac@montcada.org
X-WR-TIMEZONE:Europe/Madrid
DESCRIPTION:A càrrec de Chrysallis. Asociación Familias de Infancia y Juventud Trans*.

URI:https://www.montcada.cat/actualitat/agenda/exposicio-transgresivas.html
CLASS:PUBLIC
END:VEVENT
END:VCALENDAR
