BEGIN:VCALENDAR
VERSION:2.0
CALSCALE:GREGORIAN
PRODID:-//Diputació de Barcelona//DibaCMS//EN
BEGIN:VEVENT
UID:16727
DTSTAMP:20260423T161256
DTSTART:20220308T183000
DTEND:20220308T183000
SUMMARY:Manifestació. Treballadores som totes, mobilitació pel 8 de març
LOCATION:
METHOD:PUBLISH
X-WR-CALNAME:oac@montcada.org
X-WR-TIMEZONE:Europe/Madrid
DESCRIPTION:Sortida: 18.30 h. Ajuntament de Montcada i Reixac (Av. Unitat, 6) - Final: plaça de l’Església (Lectura de manifest).

URI:https://www.montcada.cat/actualitat/agenda/manifestacio-treballadores-som-totes-mobilitacio-pel-8-de-marc.html
CLASS:PUBLIC
END:VEVENT
END:VCALENDAR
