BEGIN:VCALENDAR
VERSION:2.0
CALSCALE:GREGORIAN
PRODID:-//Diputació de Barcelona//DibaCMS//EN
BEGIN:VEVENT
UID:16572
DTSTAMP:20260421T134058
DTSTART:20220224T183000
DTEND:20220224T183000
SUMMARY:Ple extraordinari plusvàlues i ordinari de febrer
LOCATION:Per videoconferència 
METHOD:PUBLISH
X-WR-CALNAME:oac@montcada.org
X-WR-TIMEZONE:Europe/Madrid
DESCRIPTION:Ordres del dia al Portal de Transparència (202200000002 i 202200000003)

URI:https://www.montcada.cat/actualitat/agenda/ple-extraordinari-plusvalues-i-ordinari-de-febrer.html
CLASS:PUBLIC
END:VEVENT
END:VCALENDAR
