BEGIN:VCALENDAR
VERSION:2.0
CALSCALE:GREGORIAN
PRODID:-//Diputació de Barcelona//DibaCMS//EN
BEGIN:VEVENT
UID:16458
DTSTAMP:20260424T100807
DTSTART:20220217T190000
DTEND:20220217T200000
SUMMARY:Audiència pública ordenança fiscal plusvàlues
LOCATION:
METHOD:PUBLISH
X-WR-CALNAME:oac@montcada.org
X-WR-TIMEZONE:Europe/Madrid
DESCRIPTION:Modificació de l'Impost sobre l'increment del valor dels terrenys de naturalesa urbana.

URI:https://www.montcada.cat/actualitat/agenda/audiencia-publica-ordenanca-fiscal-plusvalues.html
CLASS:PUBLIC
END:VEVENT
END:VCALENDAR
