BEGIN:VCALENDAR
VERSION:2.0
CALSCALE:GREGORIAN
PRODID:-//Diputació de Barcelona//DibaCMS//EN
BEGIN:VEVENT
UID:16212
DTSTAMP:20260422T030749
DTSTART:20220127T190000
DTEND:20220127T190000
SUMMARY:Club de lectura ciència-ficció. Entrevista amb el vampir
LOCATION: c. Tarragona, 32       08110 Montcada i Reixac
METHOD:PUBLISH
X-WR-CALNAME:oac@montcada.org
X-WR-TIMEZONE:Europe/Madrid
DESCRIPTION:Sobre l'obra d'Anne Rice

URI:https://www.montcada.cat/actualitat/agenda/club-de-lectura-ciencia-ficcio-entrevista-amb-el-vampir.html
CLASS:PUBLIC
END:VEVENT
END:VCALENDAR
