BEGIN:VCALENDAR
VERSION:2.0
CALSCALE:GREGORIAN
PRODID:-//Diputació de Barcelona//DibaCMS//EN
BEGIN:VEVENT
UID:16107
DTSTAMP:20260421T150107
DTSTART:20220122T200000
DTEND:20220122T200000
SUMMARY:Música/teatre. Moonlight serenade
LOCATION:Carrer Tarragona, 32       08110 Montcada i Reixac
METHOD:PUBLISH
X-WR-CALNAME:oac@montcada.org
X-WR-TIMEZONE:Europe/Madrid
DESCRIPTION:Amb Divinas

URI:https://www.montcada.cat/actualitat/agenda/musicateatre-moonlight-serenade.html
CLASS:PUBLIC
END:VEVENT
END:VCALENDAR
