BEGIN:VCALENDAR
VERSION:2.0
CALSCALE:GREGORIAN
PRODID:-//Diputació de Barcelona//DibaCMS//EN
BEGIN:VEVENT
UID:15996
DTSTAMP:20260424T024024
DTSTART:20211216T190000
DTEND:20211216T190000
SUMMARY:Presentació del calendari municipal 2022
LOCATION:Carrer Major, 32 - Carrer Domènec Fins, 15 08110 Montcada i Reixac
METHOD:PUBLISH
X-WR-CALNAME:oac@montcada.org
X-WR-TIMEZONE:Europe/Madrid
DESCRIPTION:
URI:https://www.montcada.cat/actualitat/agenda/presentacio-del-calendari-municipal-2022.html
CLASS:PUBLIC
END:VEVENT
END:VCALENDAR
