BEGIN:VCALENDAR
VERSION:2.0
CALSCALE:GREGORIAN
PRODID:-//Diputació de Barcelona//DibaCMS//EN
BEGIN:VEVENT
UID:15522
DTSTAMP:20260421T114823
DTSTART:20211030T110000
DTEND:20211030T170000
SUMMARY:Tirolines, pont tibetà i rappel
LOCATION:Avinguda de la Unitat, s/n       08110 Montcada i Reixac
METHOD:PUBLISH
X-WR-CALNAME:oac@montcada.org
X-WR-TIMEZONE:Europe/Madrid
DESCRIPTION:Activitat comunitària per a tota la família

URI:https://www.montcada.cat/actualitat/agenda/tirolines-pont-tibeta-i-rappel.html
CLASS:PUBLIC
END:VEVENT
END:VCALENDAR
