BEGIN:VCALENDAR
VERSION:2.0
CALSCALE:GREGORIAN
PRODID:-//Diputació de Barcelona//DibaCMS//EN
BEGIN:VEVENT
UID:15521
DTSTAMP:20260421T132133
DTSTART:20211029T170000
DTEND:20211029T190000
SUMMARY:Truc o tracte La Muntanyeta Viu!
LOCATION:
METHOD:PUBLISH
X-WR-CALNAME:oac@montcada.org
X-WR-TIMEZONE:Europe/Madrid
DESCRIPTION:Activitat comunitària per a tota la família

URI:https://www.montcada.cat/actualitat/agenda/truc-o-tracte-la-muntanyeta-viu.html
CLASS:PUBLIC
END:VEVENT
END:VCALENDAR
