BEGIN:VCALENDAR
VERSION:2.0
CALSCALE:GREGORIAN
PRODID:-//Diputació de Barcelona//DibaCMS//EN
BEGIN:VEVENT
UID:15520
DTSTAMP:20260421T121310
DTSTART:20211027T180000
DTEND:20211027T180000
SUMMARY:Castanyada
LOCATION:08110 Montcada i Reixac
METHOD:PUBLISH
X-WR-CALNAME:oac@montcada.org
X-WR-TIMEZONE:Europe/Madrid
DESCRIPTION:Activitat comunitària per a tota la família

URI:https://www.montcada.cat/actualitat/agenda/castanyada.html
CLASS:PUBLIC
END:VEVENT
END:VCALENDAR
