BEGIN:VCALENDAR
VERSION:2.0
CALSCALE:GREGORIAN
PRODID:-//Diputació de Barcelona//DibaCMS//EN
BEGIN:VEVENT
UID:15481
DTSTAMP:20260422T034007
DTSTART:20211027T170000
DTEND:20211027T170000
SUMMARY:Drets laborals de les persones trans*. Recursos i experiències
LOCATION:
METHOD:PUBLISH
X-WR-CALNAME:oac@montcada.org
X-WR-TIMEZONE:Europe/Madrid
DESCRIPTION:Xerrada en línia

URI:https://www.montcada.cat/actualitat/agenda/drets-laborals-de-les-persones-trans-recursos-i-experiencies.html
CLASS:PUBLIC
END:VEVENT
END:VCALENDAR
