BEGIN:VCALENDAR
VERSION:2.0
CALSCALE:GREGORIAN
PRODID:-//Diputació de Barcelona//DibaCMS//EN
BEGIN:VEVENT
UID:15429
DTSTAMP:20260421T190851
DTSTART:20211026T173000
DTEND:20211026T193000
SUMMARY:Taller. Aprèn a il·lustrar textos literaris
LOCATION:Carrer Balmes, 16       08110 Montcada i Reixac
METHOD:PUBLISH
X-WR-CALNAME:oac@montcada.org
X-WR-TIMEZONE:Europe/Madrid
DESCRIPTION:A càrrec d'Héctor Ayen

URI:https://www.montcada.cat/actualitat/agenda/taller-apren-a-illustrar-textos-literaris.html
CLASS:PUBLIC
END:VEVENT
END:VCALENDAR
