BEGIN:VCALENDAR
VERSION:2.0
CALSCALE:GREGORIAN
PRODID:-//Diputació de Barcelona//DibaCMS//EN
BEGIN:VEVENT
UID:15121
DTSTAMP:20260421T133031
DTSTART:20211008T093000
DTEND:20211008T120000
SUMMARY:Matí Obert: Circuit de psicomotricitat
LOCATION:Carrer Viver, s/n       08110 Montcada i Reixac
METHOD:PUBLISH
X-WR-CALNAME:oac@montcada.org
X-WR-TIMEZONE:Europe/Madrid
DESCRIPTION:Adreçat a infants de 0 a 6 anys.

URI:https://www.montcada.cat/actualitat/agenda/mati-obert-circuit-de-psicomotricitat.html
CLASS:PUBLIC
END:VEVENT
END:VCALENDAR
