BEGIN:VCALENDAR
VERSION:2.0
CALSCALE:GREGORIAN
PRODID:-//Diputació de Barcelona//DibaCMS//EN
BEGIN:VEVENT
UID:15084
DTSTAMP:20260422T092029
DTSTART:20211216T110000
DTEND:20211216T110000
SUMMARY:Taller. Automassatge i estiraments en cames cansades
LOCATION:Carrer Geranis, s/n       08110 Montcada i Reixac
METHOD:PUBLISH
X-WR-CALNAME:oac@montcada.org
X-WR-TIMEZONE:Europe/Madrid
DESCRIPTION:Aforament limitat. Cal inscripció prèvia.

URI:https://www.montcada.cat/actualitat/agenda/15084-taller-automassatge-i-estiraments-en-cames-cansades.html
CLASS:PUBLIC
END:VEVENT
END:VCALENDAR
