BEGIN:VCALENDAR
VERSION:2.0
CALSCALE:GREGORIAN
PRODID:-//Diputació de Barcelona//DibaCMS//EN
BEGIN:VEVENT
UID:15071
DTSTAMP:20260422T031603
DTSTART:20211217T200000
DTEND:20211217T200000
SUMMARY:Teatre. El mirall esquerdat de Miss Marple
LOCATION:Carrer Tarragona, 32       08110 Montcada i Reixac
METHOD:PUBLISH
X-WR-CALNAME:oac@montcada.org
X-WR-TIMEZONE:Europe/Madrid
DESCRIPTION:Aula de Teatre de Montcada i Reixac

URI:https://www.montcada.cat/actualitat/agenda/15071-teatre-el-mirall-esquerdat-de-miss-marple.html
CLASS:PUBLIC
END:VEVENT
END:VCALENDAR
