BEGIN:VCALENDAR
VERSION:2.0
CALSCALE:GREGORIAN
PRODID:-//Diputació de Barcelona//DibaCMS//EN
BEGIN:VEVENT
UID:14604
DTSTAMP:20260419T142515
DTSTART:20210715T180000
DTEND:20210722T200000
SUMMARY:Taller. 'Manualitat adults: maletí cartonatge'
LOCATION:Carrer Núria, 73       08110 Montcada i Reixac
METHOD:PUBLISH
X-WR-CALNAME:oac@montcada.org
X-WR-TIMEZONE:Europe/Madrid
DESCRIPTION:Inscripcions: del 21 al 30 de juny

URI:https://www.montcada.cat/actualitat/agenda/taller-manualitat-adults-maleti-cartonatge.html
CLASS:PUBLIC
END:VEVENT
END:VCALENDAR
