BEGIN:VCALENDAR
VERSION:2.0
CALSCALE:GREGORIAN
PRODID:-//Diputació de Barcelona//DibaCMS//EN
BEGIN:VEVENT
UID:DI_34078@www.montcada.cat
DTSTAMP:20260425T140720
DTSTART:20260324T000000
DTEND:20260426T140000
SUMMARY:Exposició fotogràfica 'El camí és el meu cap'
LOCATION: pl. de l'Església, 12       08110 Montcada i Reixac
METHOD:PUBLISH
X-WR-CALNAME:oac@montcada.org
X-WR-TIMEZONE:Europe/Madrid
DESCRIPTION:
URI:https://www.montcada.cat/actualitat/agenda/exposicio-fotografica-el-cami-es-el-meu-cap.html
CLASS:PUBLIC
END:VEVENT
BEGIN:VEVENT
UID:DI_35768@www.montcada.cat
DTSTAMP:20260425T140720
DTSTART:20260415T000000
DTEND:20260508T000000
SUMMARY:Exposició. L'art amb diferents tècniques
LOCATION:Avinguda de la Unitat, s/n 08110 Montcada i Reixac
METHOD:PUBLISH
X-WR-CALNAME:oac@montcada.org
X-WR-TIMEZONE:Europe/Madrid
DESCRIPTION:
URI:https://www.montcada.cat/actualitat/agenda/exposicio-lart-amb-diferents-tecniques.html
CLASS:PUBLIC
END:VEVENT
BEGIN:VEVENT
UID:DI_35573@www.montcada.cat
DTSTAMP:20260425T140720
DTSTART:20260418T000000
DTEND:20260425T000000
SUMMARY:Portes obertes Xarxa Escoles Bressol Municipals
LOCATION:
METHOD:PUBLISH
X-WR-CALNAME:oac@montcada.org
X-WR-TIMEZONE:Europe/Madrid
DESCRIPTION:
URI:https://www.montcada.cat/actualitat/agenda/portes-obertes-xarxa-escoles-bressol-municipals.html
CLASS:PUBLIC
END:VEVENT
BEGIN:VEVENT
UID:DI_35771@www.montcada.cat
DTSTAMP:20260425T140720
DTSTART:20260420T000000
DTEND:20260530T000000
SUMMARY:Exposició. Imaginar la ciutat que ve
LOCATION:Carrer Major, 32 - Carrer Domènec Fins, 15 08110 Montcada i Reixac
METHOD:PUBLISH
X-WR-CALNAME:oac@montcada.org
X-WR-TIMEZONE:Europe/Madrid
DESCRIPTION:
URI:https://www.montcada.cat/actualitat/agenda/exposicio-imaginar-la-ciutat-que-ve.html
CLASS:PUBLIC
END:VEVENT
BEGIN:VEVENT
UID:DI_35720@www.montcada.cat
DTSTAMP:20260425T140720
DTSTART:20260420T170000
DTEND:20260429T170000
SUMMARY:Flash Mob Casal Gent Gran Casa de la Mina
LOCATION:
METHOD:PUBLISH
X-WR-CALNAME:oac@montcada.org
X-WR-TIMEZONE:Europe/Madrid
DESCRIPTION:
URI:https://www.montcada.cat/actualitat/agenda/flash-mob-casal-gent-gran-casa-de-la-mina.html
CLASS:PUBLIC
END:VEVENT
BEGIN:VEVENT
UID:DI_35827@www.montcada.cat
DTSTAMP:20260425T140720
DTSTART:20260425T000000
DTEND:20260503T000000
SUMMARY:Festa Major Mas Rampinyo 2026
LOCATION:
METHOD:PUBLISH
X-WR-CALNAME:oac@montcada.org
X-WR-TIMEZONE:Europe/Madrid
DESCRIPTION:
URI:https://www.montcada.cat/actualitat/agenda/festa-major-mas-rampinyo-2026.html
CLASS:PUBLIC
END:VEVENT
BEGIN:VEVENT
UID:DI_35679@www.montcada.cat
DTSTAMP:20260425T140720
DTSTART:20260425T110000
DTEND:20260425T110000
SUMMARY:Canta'm un conte
LOCATION: c. Tarragona, 32       08110 Montcada i Reixac
METHOD:PUBLISH
X-WR-CALNAME:oac@montcada.org
X-WR-TIMEZONE:Europe/Madrid
DESCRIPTION:
URI:https://www.montcada.cat/actualitat/agenda/35679-cantam-un-conte.html
CLASS:PUBLIC
END:VEVENT
BEGIN:VEVENT
UID:DI_35736@www.montcada.cat
DTSTAMP:20260425T140720
DTSTART:20260425T110000
DTEND:20260425T110000
SUMMARY:Dia Internacional de la Dansa 2026
LOCATION:Camí de la Font Freda, 3       08110 Montcada i Reixac
METHOD:PUBLISH
X-WR-CALNAME:oac@montcada.org
X-WR-TIMEZONE:Europe/Madrid
DESCRIPTION:
URI:https://www.montcada.cat/actualitat/agenda/dia-internacional-de-la-dansa-2026.html
CLASS:PUBLIC
END:VEVENT
BEGIN:VEVENT
UID:DI_35787@www.montcada.cat
DTSTAMP:20260425T140720
DTSTART:20260425T120000
DTEND:20260425T120000
SUMMARY:Presentació nou servei neteja viària
LOCATION:camí de la Font Freda 08110 Montcada i Reixac
METHOD:PUBLISH
X-WR-CALNAME:oac@montcada.org
X-WR-TIMEZONE:Europe/Madrid
DESCRIPTION:
URI:https://www.montcada.cat/actualitat/agenda/presentacio-nou-servei-neteja-viaria.html
CLASS:PUBLIC
END:VEVENT
BEGIN:VEVENT
UID:DI_35588@www.montcada.cat
DTSTAMP:20260425T140720
DTSTART:20260426T110000
DTEND:20260426T110000
SUMMARY:Conta contes de Sant Jordi ‘Els contes d’en Joan’
LOCATION:Carretera N-150, km 2,6       08110 Montcada i Reixac
METHOD:PUBLISH
X-WR-CALNAME:oac@montcada.org
X-WR-TIMEZONE:Europe/Madrid
DESCRIPTION:
URI:https://www.montcada.cat/actualitat/agenda/conta-contes-de-sant-jordi-els-contes-den-joan.html
CLASS:PUBLIC
END:VEVENT
BEGIN:VEVENT
UID:DI_35340@www.montcada.cat
DTSTAMP:20260425T140720
DTSTART:20260426T120000
DTEND:20260426T120000
SUMMARY:Jugatecambiental: 'Dia de les papallones'
LOCATION:Avinguda de la Unitat 08110 Montcada i Reixac
METHOD:PUBLISH
X-WR-CALNAME:oac@montcada.org
X-WR-TIMEZONE:Europe/Madrid
DESCRIPTION:
URI:https://www.montcada.cat/actualitat/agenda/35340-jugatecambiental-dia-de-les-papallones.html
CLASS:PUBLIC
END:VEVENT
BEGIN:VEVENT
UID:DI_35352@www.montcada.cat
DTSTAMP:20260425T140720
DTSTART:20260426T120000
DTEND:20260426T120000
SUMMARY:Jugatecambiental: 'Protegim el bosc amb l’ADF'
LOCATION:Carrer Mas Duran, 2 08110 Montcada i Reixac
METHOD:PUBLISH
X-WR-CALNAME:oac@montcada.org
X-WR-TIMEZONE:Europe/Madrid
DESCRIPTION:
URI:https://www.montcada.cat/actualitat/agenda/35352-jugatecambiental-protegim-el-bosc-amb-ladf.html
CLASS:PUBLIC
END:VEVENT
BEGIN:VEVENT
UID:DI_35807@www.montcada.cat
DTSTAMP:20260425T140720
DTSTART:20260427T173000
DTEND:20260427T173000
SUMMARY:Reunió informativa del vial de la Riera de Sant Cugat
LOCATION:Riera de Sant Cugat (vial darrera de l'Escola Mitja Costa) 
METHOD:PUBLISH
X-WR-CALNAME:oac@montcada.org
X-WR-TIMEZONE:Europe/Madrid
DESCRIPTION:
URI:https://www.montcada.cat/actualitat/agenda/reunio-informativa-del-vial-de-la-riera-de-sant-cugat.html
CLASS:PUBLIC
END:VEVENT
BEGIN:VEVENT
UID:DI_35610@www.montcada.cat
DTSTAMP:20260425T140720
DTSTART:20260427T180000
DTEND:20260427T180000
SUMMARY:Dia de la visibilitat lèsbica
LOCATION:Carrer Balmes, 16       08110 Montcada i Reixac
METHOD:PUBLISH
X-WR-CALNAME:oac@montcada.org
X-WR-TIMEZONE:Europe/Madrid
DESCRIPTION:
URI:https://www.montcada.cat/actualitat/agenda/35610-dia-de-la-visibilitat-lesbica.html
CLASS:PUBLIC
END:VEVENT
BEGIN:VEVENT
UID:DI_35609@www.montcada.cat
DTSTAMP:20260425T140720
DTSTART:20260428T180000
DTEND:20260428T180000
SUMMARY:Excursió MIR
LOCATION:Carrer Balmes, 16       08110 Montcada i Reixac
METHOD:PUBLISH
X-WR-CALNAME:oac@montcada.org
X-WR-TIMEZONE:Europe/Madrid
DESCRIPTION:
URI:https://www.montcada.cat/actualitat/agenda/excursio-mir.html
CLASS:PUBLIC
END:VEVENT
BEGIN:VEVENT
UID:DI_35687@www.montcada.cat
DTSTAMP:20260425T140720
DTSTART:20260429T180000
DTEND:20260429T180000
SUMMARY:Xerrada: Biblioteques com a infraestructures públic-comunitàries: cultura comunitària, drets i economia de proximitat
LOCATION: c. Turó, 45       08110 Montcada i Reixac
METHOD:PUBLISH
X-WR-CALNAME:oac@montcada.org
X-WR-TIMEZONE:Europe/Madrid
DESCRIPTION:
URI:https://www.montcada.cat/actualitat/agenda/xerrada-biblioteques-com-a-infraestructures-public-comunitaries-cultura-comunitaria-drets-i-economia-de-proximitat.html
CLASS:PUBLIC
END:VEVENT
BEGIN:VEVENT
UID:DI_35839@www.montcada.cat
DTSTAMP:20260425T140720
DTSTART:20260430T181500
DTEND:20260430T181500
SUMMARY:Ple ordinari abril 2026
LOCATION:Carrer Major, 32 - Carrer Domènec Fins, 15 08110 Montcada i Reixac
METHOD:PUBLISH
X-WR-CALNAME:oac@montcada.org
X-WR-TIMEZONE:Europe/Madrid
DESCRIPTION:
URI:https://www.montcada.cat/actualitat/agenda/ple-ordinari-abril-2026.html
CLASS:PUBLIC
END:VEVENT
BEGIN:VEVENT
UID:DI_35688@www.montcada.cat
DTSTAMP:20260425T140720
DTSTART:20260430T190000
DTEND:20260430T190000
SUMMARY:Club de lectura de fantasia i ciència-ficció: Gossos de guerra
LOCATION: c. Tarragona, 32       08110 Montcada i Reixac
METHOD:PUBLISH
X-WR-CALNAME:oac@montcada.org
X-WR-TIMEZONE:Europe/Madrid
DESCRIPTION:
URI:https://www.montcada.cat/actualitat/agenda/club-de-lectura-de-fantasia-i-ciencia-ficcio-gossos-de-guerra.html
CLASS:PUBLIC
END:VEVENT
BEGIN:VEVENT
UID:DI_35717@www.montcada.cat
DTSTAMP:20260425T140720
DTSTART:20260502T120000
DTEND:20260502T120000
SUMMARY:Hora del conte: La nina nova
LOCATION:Avinguda de la Unitat 08110 Montcada i Reixac
METHOD:PUBLISH
X-WR-CALNAME:oac@montcada.org
X-WR-TIMEZONE:Europe/Madrid
DESCRIPTION:
URI:https://www.montcada.cat/actualitat/agenda/hora-del-conte-la-nina-nova.html
CLASS:PUBLIC
END:VEVENT
BEGIN:VEVENT
UID:DI_35828@www.montcada.cat
DTSTAMP:20260425T140720
DTSTART:20260503T110000
DTEND:20260503T110000
SUMMARY:Festa de la Rosa 2026
LOCATION:Plaça del Poble 08110 Montcada i Reixac
METHOD:PUBLISH
X-WR-CALNAME:oac@montcada.org
X-WR-TIMEZONE:Europe/Madrid
DESCRIPTION:
URI:https://www.montcada.cat/actualitat/agenda/festa-de-la-rosa-2026.html
CLASS:PUBLIC
END:VEVENT
BEGIN:VEVENT
UID:DI_35341@www.montcada.cat
DTSTAMP:20260425T140720
DTSTART:20260503T120000
DTEND:20260503T120000
SUMMARY:Jugatecambiental: 'Els secrets de la Casa de les Aigües'
LOCATION:Parc de les Aigües  08110 Montcada i Reixac
METHOD:PUBLISH
X-WR-CALNAME:oac@montcada.org
X-WR-TIMEZONE:Europe/Madrid
DESCRIPTION:
URI:https://www.montcada.cat/actualitat/agenda/35341-jugatecambiental-els-secrets-de-la-casa-de-les-aigues.html
CLASS:PUBLIC
END:VEVENT
BEGIN:VEVENT
UID:DI_35345@www.montcada.cat
DTSTAMP:20260425T140720
DTSTART:20260503T120000
DTEND:20260503T120000
SUMMARY:Jugatecambiental: 'De gota en gota'
LOCATION:Carrer Mas Duran, 2 08110 Montcada i Reixac
METHOD:PUBLISH
X-WR-CALNAME:oac@montcada.org
X-WR-TIMEZONE:Europe/Madrid
DESCRIPTION:
URI:https://www.montcada.cat/actualitat/agenda/35345-jugatecambiental-de-gota-en-gota.html
CLASS:PUBLIC
END:VEVENT
BEGIN:VEVENT
UID:DI_35023@www.montcada.cat
DTSTAMP:20260425T140720
DTSTART:20260503T120000
DTEND:20260503T120000
SUMMARY:Els secrets de la Casa de les Aigües
LOCATION:Parc de les Aigües  08110 Montcada i Reixac
METHOD:PUBLISH
X-WR-CALNAME:oac@montcada.org
X-WR-TIMEZONE:Europe/Madrid
DESCRIPTION:
URI:https://www.montcada.cat/actualitat/agenda/35023-els-secrets-de-la-casa-de-les-aigues.html
CLASS:PUBLIC
END:VEVENT
BEGIN:VEVENT
UID:DI_35835@www.montcada.cat
DTSTAMP:20260425T140720
DTSTART:20260504T173000
DTEND:20260511T173000
SUMMARY:Taller de trenes africanes
LOCATION:Carrer Balmes, 16       08110 Montcada i Reixac
METHOD:PUBLISH
X-WR-CALNAME:oac@montcada.org
X-WR-TIMEZONE:Europe/Madrid
DESCRIPTION:
URI:https://www.montcada.cat/actualitat/agenda/35835-taller-de-trenes-africanes.html
CLASS:PUBLIC
END:VEVENT
BEGIN:VEVENT
UID:DI_35802@www.montcada.cat
DTSTAMP:20260425T140720
DTSTART:20260505T180000
DTEND:20260505T180000
SUMMARY:Espais de salut. Envelliment saludable
LOCATION:Carrer Núria, 73       08110 Montcada i Reixac
METHOD:PUBLISH
X-WR-CALNAME:oac@montcada.org
X-WR-TIMEZONE:Europe/Madrid
DESCRIPTION:
URI:https://www.montcada.cat/actualitat/agenda/espais-de-salut-envelliment-saludable.html
CLASS:PUBLIC
END:VEVENT
BEGIN:VEVENT
UID:DI_35834@www.montcada.cat
DTSTAMP:20260425T140720
DTSTART:20260505T180000
DTEND:20260526T180000
SUMMARY:Taller de costura
LOCATION:Carrer Balmes, 16       08110 Montcada i Reixac
METHOD:PUBLISH
X-WR-CALNAME:oac@montcada.org
X-WR-TIMEZONE:Europe/Madrid
DESCRIPTION:
URI:https://www.montcada.cat/actualitat/agenda/35834-taller-de-costura.html
CLASS:PUBLIC
END:VEVENT
BEGIN:VEVENT
UID:DI_35803@www.montcada.cat
DTSTAMP:20260425T140720
DTSTART:20260505T183000
DTEND:20260609T193000
SUMMARY:Espais de salut. Jornades sobre nutrició: alimentació saludable
LOCATION:Carrer Llevant, 10       08110 Montcada i Reixac
METHOD:PUBLISH
X-WR-CALNAME:oac@montcada.org
X-WR-TIMEZONE:Europe/Madrid
DESCRIPTION:
URI:https://www.montcada.cat/actualitat/agenda/espais-de-salut-jornades-sobre-nutricio-alimentacio-saludable.html
CLASS:PUBLIC
END:VEVENT
BEGIN:VEVENT
UID:DI_35754@www.montcada.cat
DTSTAMP:20260425T140720
DTSTART:20260506T173000
DTEND:20260506T173000
SUMMARY:Hora del conte. El Cargol Pol i el Poniol
LOCATION:Carrer Mas Duran, 2 08110 Montcada i Reixac
METHOD:PUBLISH
X-WR-CALNAME:oac@montcada.org
X-WR-TIMEZONE:Europe/Madrid
DESCRIPTION:
URI:https://www.montcada.cat/actualitat/agenda/hora-del-conte-el-cargol-pol-i-el-poniol.html
CLASS:PUBLIC
END:VEVENT
BEGIN:VEVENT
UID:DI_35831@www.montcada.cat
DTSTAMP:20260425T140720
DTSTART:20260506T180000
DTEND:20260527T180000
SUMMARY:Classes de boxa
LOCATION:Carrer Balmes, 16       08110 Montcada i Reixac
METHOD:PUBLISH
X-WR-CALNAME:oac@montcada.org
X-WR-TIMEZONE:Europe/Madrid
DESCRIPTION:
URI:https://www.montcada.cat/actualitat/agenda/classes-de-boxa.html
CLASS:PUBLIC
END:VEVENT
BEGIN:VEVENT
UID:DI_35833@www.montcada.cat
DTSTAMP:20260425T140720
DTSTART:20260506T180000
DTEND:20260506T180000
SUMMARY:Espai de debat. parlem sobre els vapers
LOCATION:Carrer Balmes, 16       08110 Montcada i Reixac
METHOD:PUBLISH
X-WR-CALNAME:oac@montcada.org
X-WR-TIMEZONE:Europe/Madrid
DESCRIPTION:
URI:https://www.montcada.cat/actualitat/agenda/espai-de-debat-parlem-sobre-els-vapers.html
CLASS:PUBLIC
END:VEVENT
BEGIN:VEVENT
UID:DI_35812@www.montcada.cat
DTSTAMP:20260425T140720
DTSTART:20260507T190000
DTEND:20260507T190000
SUMMARY:Presentació Festa Major 2026
LOCATION: pl. de l'Església, 12       08110 Montcada i Reixac
METHOD:PUBLISH
X-WR-CALNAME:oac@montcada.org
X-WR-TIMEZONE:Europe/Madrid
DESCRIPTION:
URI:https://www.montcada.cat/actualitat/agenda/presentacio-festa-major-2026.html
CLASS:PUBLIC
END:VEVENT
BEGIN:VEVENT
UID:DI_35832@www.montcada.cat
DTSTAMP:20260425T140720
DTSTART:20260508T180000
DTEND:20260508T180000
SUMMARY:Dj concert + pica pica
LOCATION:Carrer Balmes, 16       08110 Montcada i Reixac
METHOD:PUBLISH
X-WR-CALNAME:oac@montcada.org
X-WR-TIMEZONE:Europe/Madrid
DESCRIPTION:
URI:https://www.montcada.cat/actualitat/agenda/dj-concert--pica-pica.html
CLASS:PUBLIC
END:VEVENT
BEGIN:VEVENT
UID:DI_35829@www.montcada.cat
DTSTAMP:20260425T140720
DTSTART:20260508T190000
DTEND:20260508T190000
SUMMARY:Teatre. Rifiuti misti
LOCATION:Carrer Montiu 08110 Montcada i Reixac
METHOD:PUBLISH
X-WR-CALNAME:oac@montcada.org
X-WR-TIMEZONE:Europe/Madrid
DESCRIPTION:
URI:https://www.montcada.cat/actualitat/agenda/teatre-rifiuti-misti.html
CLASS:PUBLIC
END:VEVENT
BEGIN:VEVENT
UID:DI_34678@www.montcada.cat
DTSTAMP:20260425T140720
DTSTART:20260508T200000
DTEND:20260508T200000
SUMMARY:Música: 'Concert de jazz Smack Dab'
LOCATION:Carrer Tarragona, 32       08110 Montcada i Reixac
METHOD:PUBLISH
X-WR-CALNAME:oac@montcada.org
X-WR-TIMEZONE:Europe/Madrid
DESCRIPTION:
URI:https://www.montcada.cat/actualitat/agenda/musica-concert-de-jazz-smack-dab.html
CLASS:PUBLIC
END:VEVENT
BEGIN:VEVENT
UID:DI_35830@www.montcada.cat
DTSTAMP:20260425T140720
DTSTART:20260509T160000
DTEND:20260509T220000
SUMMARY:Cinquantè aniversari Escola Font Freda
LOCATION:Carrer Francesc Layret, s/n       08110 Montcada i Reixac
METHOD:PUBLISH
X-WR-CALNAME:oac@montcada.org
X-WR-TIMEZONE:Europe/Madrid
DESCRIPTION:
URI:https://www.montcada.cat/actualitat/agenda/cinquante-aniversari-escola-font-freda.html
CLASS:PUBLIC
END:VEVENT
BEGIN:VEVENT
UID:DI_35025@www.montcada.cat
DTSTAMP:20260425T140720
DTSTART:20260510T110000
DTEND:20260510T110000
SUMMARY:Visita guiada col·leccions Museu Municipal
LOCATION:Carrer Major, 32       08110 Montcada i Reixac
METHOD:PUBLISH
X-WR-CALNAME:oac@montcada.org
X-WR-TIMEZONE:Europe/Madrid
DESCRIPTION:
URI:https://www.montcada.cat/actualitat/agenda/35025-visita-guiada-colleccions-museu-municipal.html
CLASS:PUBLIC
END:VEVENT
BEGIN:VEVENT
UID:DI_35342@www.montcada.cat
DTSTAMP:20260425T140720
DTSTART:20260510T120000
DTEND:20260510T120000
SUMMARY:Jugatecambiental: 'De gota en gota'
LOCATION:Avinguda de la Unitat 08110 Montcada i Reixac
METHOD:PUBLISH
X-WR-CALNAME:oac@montcada.org
X-WR-TIMEZONE:Europe/Madrid
DESCRIPTION:
URI:https://www.montcada.cat/actualitat/agenda/35342-jugatecambiental-de-gota-en-gota.html
CLASS:PUBLIC
END:VEVENT
BEGIN:VEVENT
UID:DI_35353@www.montcada.cat
DTSTAMP:20260425T140720
DTSTART:20260510T120000
DTEND:20260510T120000
SUMMARY:Jugatecambiental: 'La primavera la vida altera'
LOCATION:Carrer Mas Duran, 2 08110 Montcada i Reixac
METHOD:PUBLISH
X-WR-CALNAME:oac@montcada.org
X-WR-TIMEZONE:Europe/Madrid
DESCRIPTION:
URI:https://www.montcada.cat/actualitat/agenda/jugatecambiental-la-primavera-la-vida-altera.html
CLASS:PUBLIC
END:VEVENT
BEGIN:VEVENT
UID:DI_34679@www.montcada.cat
DTSTAMP:20260425T140720
DTSTART:20260510T180000
DTEND:20260510T180000
SUMMARY:Teatre: 'Cor dels amants'
LOCATION:Carrer Tarragona, 32       08110 Montcada i Reixac
METHOD:PUBLISH
X-WR-CALNAME:oac@montcada.org
X-WR-TIMEZONE:Europe/Madrid
DESCRIPTION:
URI:https://www.montcada.cat/actualitat/agenda/teatre-cor-dels-amants.html
CLASS:PUBLIC
END:VEVENT
BEGIN:VEVENT
UID:DI_35838@www.montcada.cat
DTSTAMP:20260425T140720
DTSTART:20260511T173000
DTEND:20260511T183000
SUMMARY:Tertúlia en català
LOCATION:Carrer Major, 47       08110 Montcada i Reixac
METHOD:PUBLISH
X-WR-CALNAME:oac@montcada.org
X-WR-TIMEZONE:Europe/Madrid
DESCRIPTION:
URI:https://www.montcada.cat/actualitat/agenda/tertulia-en-catala.html
CLASS:PUBLIC
END:VEVENT
BEGIN:VEVENT
UID:DI_35179@www.montcada.cat
DTSTAMP:20260425T140720
DTSTART:20260511T180000
DTEND:20260511T180000
SUMMARY:Xerrada: 'Ser adolescent avui: llums, ombres i decisions'
LOCATION:Carrer Llevant, 10       08110 Montcada i Reixac
METHOD:PUBLISH
X-WR-CALNAME:oac@montcada.org
X-WR-TIMEZONE:Europe/Madrid
DESCRIPTION:
URI:https://www.montcada.cat/actualitat/agenda/xerrada-ser-adolescent-avui-llums-ombres-i-decisions.html
CLASS:PUBLIC
END:VEVENT
BEGIN:VEVENT
UID:DI_35249@www.montcada.cat
DTSTAMP:20260425T140720
DTSTART:20260512T100000
DTEND:20260512T130000
SUMMARY:Punt de reparació de petits electrodomèstics
LOCATION:Mercat setmanal Can Sant Joan 
METHOD:PUBLISH
X-WR-CALNAME:oac@montcada.org
X-WR-TIMEZONE:Europe/Madrid
DESCRIPTION:
URI:https://www.montcada.cat/actualitat/agenda/35249-punt-de-reparacio-de-petits-electrodomestics.html
CLASS:PUBLIC
END:VEVENT
BEGIN:VEVENT
UID:DI_35769@www.montcada.cat
DTSTAMP:20260425T140720
DTSTART:20260513T000000
DTEND:20260605T000000
SUMMARY:Exposició. Art en punt de creu
LOCATION:Avinguda de la Unitat, s/n 08110 Montcada i Reixac
METHOD:PUBLISH
X-WR-CALNAME:oac@montcada.org
X-WR-TIMEZONE:Europe/Madrid
DESCRIPTION:
URI:https://www.montcada.cat/actualitat/agenda/exposicio-art-en-punt-de-creu.html
CLASS:PUBLIC
END:VEVENT
BEGIN:VEVENT
UID:DI_35755@www.montcada.cat
DTSTAMP:20260425T140720
DTSTART:20260513T173000
DTEND:20260513T173000
SUMMARY:Hora del conte. L’arbre de sucre
LOCATION: c. Tarragona, 32       08110 Montcada i Reixac
METHOD:PUBLISH
X-WR-CALNAME:oac@montcada.org
X-WR-TIMEZONE:Europe/Madrid
DESCRIPTION:
URI:https://www.montcada.cat/actualitat/agenda/35755-hora-del-conte-larbre-de-sucre.html
CLASS:PUBLIC
END:VEVENT
BEGIN:VEVENT
UID:DI_35836@www.montcada.cat
DTSTAMP:20260425T140720
DTSTART:20260515T173000
DTEND:20260515T173000
SUMMARY:Taller sobre l'ús de pantalles
LOCATION:Carrer Balmes, 16       08110 Montcada i Reixac
METHOD:PUBLISH
X-WR-CALNAME:oac@montcada.org
X-WR-TIMEZONE:Europe/Madrid
DESCRIPTION:
URI:https://www.montcada.cat/actualitat/agenda/taller-sobre-lus-de-pantalles.html
CLASS:PUBLIC
END:VEVENT
BEGIN:VEVENT
UID:DI_35718@www.montcada.cat
DTSTAMP:20260425T140720
DTSTART:20260516T110000
DTEND:20260516T110000
SUMMARY:Hora del conte: La Filomena va al riu
LOCATION: c. Turó, 45       08110 Montcada i Reixac
METHOD:PUBLISH
X-WR-CALNAME:oac@montcada.org
X-WR-TIMEZONE:Europe/Madrid
DESCRIPTION:
URI:https://www.montcada.cat/actualitat/agenda/hora-del-conte-la-filomena-va-al-riu.html
CLASS:PUBLIC
END:VEVENT
BEGIN:VEVENT
UID:DI_35825@www.montcada.cat
DTSTAMP:20260425T140720
DTSTART:20260516T193000
DTEND:20260516T193000
SUMMARY:Teatre. Un ram de Margarides, a cada nínxol de bruixa
LOCATION:Carretera N-150, km 2,6       08110 Montcada i Reixac
METHOD:PUBLISH
X-WR-CALNAME:oac@montcada.org
X-WR-TIMEZONE:Europe/Madrid
DESCRIPTION:
URI:https://www.montcada.cat/actualitat/agenda/teatre-un-ram-de-margarides-a-cada-ninxol-de-bruixa.html
CLASS:PUBLIC
END:VEVENT
BEGIN:VEVENT
UID:DI_35826@www.montcada.cat
DTSTAMP:20260425T140720
DTSTART:20260517T110000
DTEND:20260517T110000
SUMMARY:Teatre. Postres de músic
LOCATION:Carretera N-150, km 2,6       08110 Montcada i Reixac
METHOD:PUBLISH
X-WR-CALNAME:oac@montcada.org
X-WR-TIMEZONE:Europe/Madrid
DESCRIPTION:
URI:https://www.montcada.cat/actualitat/agenda/teatre-postres-de-music.html
CLASS:PUBLIC
END:VEVENT
BEGIN:VEVENT
UID:DI_35343@www.montcada.cat
DTSTAMP:20260425T140720
DTSTART:20260517T120000
DTEND:20260517T120000
SUMMARY:Jugatecambiental: 'Els pous de Montcada'
LOCATION:Parc de les Aigües  08110 Montcada i Reixac
METHOD:PUBLISH
X-WR-CALNAME:oac@montcada.org
X-WR-TIMEZONE:Europe/Madrid
DESCRIPTION:
URI:https://www.montcada.cat/actualitat/agenda/35343-jugatecambiental-els-pous-de-montcada.html
CLASS:PUBLIC
END:VEVENT
BEGIN:VEVENT
UID:DI_35354@www.montcada.cat
DTSTAMP:20260425T140720
DTSTART:20260517T120000
DTEND:20260517T120000
SUMMARY:Jugatecambiental: 'Fem paper reciclat'
LOCATION:Carrer Mas Duran, 2 08110 Montcada i Reixac
METHOD:PUBLISH
X-WR-CALNAME:oac@montcada.org
X-WR-TIMEZONE:Europe/Madrid
DESCRIPTION:
URI:https://www.montcada.cat/actualitat/agenda/jugatecambiental-fem-paper-reciclat.html
CLASS:PUBLIC
END:VEVENT
BEGIN:VEVENT
UID:DI_34680@www.montcada.cat
DTSTAMP:20260425T140720
DTSTART:20260517T180000
DTEND:20260517T180000
SUMMARY:Teatre: 'Qui va matar el meu pare'
LOCATION:Carrer Tarragona, 32       08110 Montcada i Reixac
METHOD:PUBLISH
X-WR-CALNAME:oac@montcada.org
X-WR-TIMEZONE:Europe/Madrid
DESCRIPTION:
URI:https://www.montcada.cat/actualitat/agenda/teatre-qui-va-matar-el-meu-pare.html
CLASS:PUBLIC
END:VEVENT
BEGIN:VEVENT
UID:DI_35719@www.montcada.cat
DTSTAMP:20260425T140720
DTSTART:20260520T173000
DTEND:20260520T173000
SUMMARY:Hora del conte: Explica’m un secret... al parc!
LOCATION: c. Turó, 45       08110 Montcada i Reixac
METHOD:PUBLISH
X-WR-CALNAME:oac@montcada.org
X-WR-TIMEZONE:Europe/Madrid
DESCRIPTION:
URI:https://www.montcada.cat/actualitat/agenda/hora-del-conte-explicam-un-secret-al-parc.html
CLASS:PUBLIC
END:VEVENT
BEGIN:VEVENT
UID:DI_35804@www.montcada.cat
DTSTAMP:20260425T140720
DTSTART:20260521T110000
DTEND:20260521T110000
SUMMARY:Espais de salut. Taller d'automassatge
LOCATION:Avinguda de la Unitat, s/n 08110 Montcada i Reixac
METHOD:PUBLISH
X-WR-CALNAME:oac@montcada.org
X-WR-TIMEZONE:Europe/Madrid
DESCRIPTION:
URI:https://www.montcada.cat/actualitat/agenda/espais-de-salut-taller-dautomassatge.html
CLASS:PUBLIC
END:VEVENT
BEGIN:VEVENT
UID:DI_32976@www.montcada.cat
DTSTAMP:20260425T140720
DTSTART:20260524T120000
DTEND:20260524T120000
SUMMARY:Jugatecambiental: '9è Bioblitz Metropolità. Ciència ciutadana'
LOCATION:Carrer Mas Duran, 2 08110 Montcada i Reixac
METHOD:PUBLISH
X-WR-CALNAME:oac@montcada.org
X-WR-TIMEZONE:Europe/Madrid
DESCRIPTION:
URI:https://www.montcada.cat/actualitat/agenda/jugatecambiental-9e-bioblitz-metropolita-ciencia-ciutadana.html
CLASS:PUBLIC
END:VEVENT
BEGIN:VEVENT
UID:DI_35805@www.montcada.cat
DTSTAMP:20260425T140720
DTSTART:20260528T180000
DTEND:20260528T180000
SUMMARY:Espais de salut. Taller d'automassatge
LOCATION:Carrer Geranis, s/n       08110 Montcada i Reixac
METHOD:PUBLISH
X-WR-CALNAME:oac@montcada.org
X-WR-TIMEZONE:Europe/Madrid
DESCRIPTION:
URI:https://www.montcada.cat/actualitat/agenda/35805-espais-de-salut-taller-dautomassatge.html
CLASS:PUBLIC
END:VEVENT
BEGIN:VEVENT
UID:DI_35355@www.montcada.cat
DTSTAMP:20260425T140720
DTSTART:20260531T120000
DTEND:20260531T120000
SUMMARY:Jugatecambiental: 'Ocells de primavera'
LOCATION:Carrer Mas Duran, 2 08110 Montcada i Reixac
METHOD:PUBLISH
X-WR-CALNAME:oac@montcada.org
X-WR-TIMEZONE:Europe/Madrid
DESCRIPTION:
URI:https://www.montcada.cat/actualitat/agenda/jugatecambiental-ocells-de-primavera.html
CLASS:PUBLIC
END:VEVENT
BEGIN:VEVENT
UID:DI_35011@www.montcada.cat
DTSTAMP:20260425T140720
DTSTART:20260531T120000
DTEND:20260531T120000
SUMMARY:Jugatecambiental: 'Contes d'aigua'
LOCATION:Parc de les Aigües  08110 Montcada i Reixac
METHOD:PUBLISH
X-WR-CALNAME:oac@montcada.org
X-WR-TIMEZONE:Europe/Madrid
DESCRIPTION:
URI:https://www.montcada.cat/actualitat/agenda/35011-jugatecambiental-contes-daigua.html
CLASS:PUBLIC
END:VEVENT
BEGIN:VEVENT
UID:DI_35027@www.montcada.cat
DTSTAMP:20260425T140720
DTSTART:20260531T120000
DTEND:20260531T120000
SUMMARY:Laboratori menut: contes d'aigua
LOCATION:Parc de les Aigües  08110 Montcada i Reixac
METHOD:PUBLISH
X-WR-CALNAME:oac@montcada.org
X-WR-TIMEZONE:Europe/Madrid
DESCRIPTION:
URI:https://www.montcada.cat/actualitat/agenda/35027-laboratori-menut-contes-daigua.html
CLASS:PUBLIC
END:VEVENT
BEGIN:VEVENT
UID:DI_34681@www.montcada.cat
DTSTAMP:20260425T140720
DTSTART:20260531T180000
DTEND:20260531T180000
SUMMARY:Teatre: 'Loop'
LOCATION:Carrer Tarragona, 32       08110 Montcada i Reixac
METHOD:PUBLISH
X-WR-CALNAME:oac@montcada.org
X-WR-TIMEZONE:Europe/Madrid
DESCRIPTION:
URI:https://www.montcada.cat/actualitat/agenda/teatre-loop.html
CLASS:PUBLIC
END:VEVENT
BEGIN:VEVENT
UID:DI_35252@www.montcada.cat
DTSTAMP:20260425T140720
DTSTART:20260603T100000
DTEND:20260603T130000
SUMMARY:Punt de reparació de petits electrodomèstics
LOCATION:Mercat setmanal dimecres 
METHOD:PUBLISH
X-WR-CALNAME:oac@montcada.org
X-WR-TIMEZONE:Europe/Madrid
DESCRIPTION:
URI:https://www.montcada.cat/actualitat/agenda/35252-punt-de-reparacio-de-petits-electrodomestics.html
CLASS:PUBLIC
END:VEVENT
BEGIN:VEVENT
UID:DI_35756@www.montcada.cat
DTSTAMP:20260425T140720
DTSTART:20260603T173000
DTEND:20260603T173000
SUMMARY:Hora del conte. La Galleda d’en Billy
LOCATION:Carrer Mas Duran, 2 08110 Montcada i Reixac
METHOD:PUBLISH
X-WR-CALNAME:oac@montcada.org
X-WR-TIMEZONE:Europe/Madrid
DESCRIPTION:
URI:https://www.montcada.cat/actualitat/agenda/hora-del-conte-la-galleda-den-billy.html
CLASS:PUBLIC
END:VEVENT
BEGIN:VEVENT
UID:DI_35028@www.montcada.cat
DTSTAMP:20260425T140720
DTSTART:20260607T120000
DTEND:20260607T120000
SUMMARY:Els secrets de la Casa de les Aigües
LOCATION:Parc de les Aigües  08110 Montcada i Reixac
METHOD:PUBLISH
X-WR-CALNAME:oac@montcada.org
X-WR-TIMEZONE:Europe/Madrid
DESCRIPTION:
URI:https://www.montcada.cat/actualitat/agenda/35028-els-secrets-de-la-casa-de-les-aigues.html
CLASS:PUBLIC
END:VEVENT
BEGIN:VEVENT
UID:DI_35770@www.montcada.cat
DTSTAMP:20260425T140720
DTSTART:20260610T000000
DTEND:20260731T000000
SUMMARY:Exposició. Éssers de carbó i tinta
LOCATION:Avinguda de la Unitat, s/n 08110 Montcada i Reixac
METHOD:PUBLISH
X-WR-CALNAME:oac@montcada.org
X-WR-TIMEZONE:Europe/Madrid
DESCRIPTION:
URI:https://www.montcada.cat/actualitat/agenda/exposicio-essers-de-carbo-i-tinta.html
CLASS:PUBLIC
END:VEVENT
BEGIN:VEVENT
UID:DI_35029@www.montcada.cat
DTSTAMP:20260425T140720
DTSTART:20260614T110000
DTEND:20260614T110000
SUMMARY:Visita guiada col·leccions Museu Municipal
LOCATION:Carrer Major, 32       08110 Montcada i Reixac
METHOD:PUBLISH
X-WR-CALNAME:oac@montcada.org
X-WR-TIMEZONE:Europe/Madrid
DESCRIPTION:
URI:https://www.montcada.cat/actualitat/agenda/35029-visita-guiada-colleccions-museu-municipal.html
CLASS:PUBLIC
END:VEVENT
BEGIN:VEVENT
UID:DI_35757@www.montcada.cat
DTSTAMP:20260425T140720
DTSTART:20260617T173000
DTEND:20260617T173000
SUMMARY:Hora del conte. Les aventures de Tom Sawyer
LOCATION: c. Tarragona, 32       08110 Montcada i Reixac
METHOD:PUBLISH
X-WR-CALNAME:oac@montcada.org
X-WR-TIMEZONE:Europe/Madrid
DESCRIPTION:
URI:https://www.montcada.cat/actualitat/agenda/hora-del-conte-les-aventures-de-tom-sawyer.html
CLASS:PUBLIC
END:VEVENT
BEGIN:VEVENT
UID:DI_35030@www.montcada.cat
DTSTAMP:20260425T140720
DTSTART:20260621T113000
DTEND:20260621T113000
SUMMARY:Cavallers, reines i amazones. Històries i llegendes de Montcada
LOCATION:Carrer Major, 32 - Carrer Domènec Fins, 15 08110 Montcada i Reixac
METHOD:PUBLISH
X-WR-CALNAME:oac@montcada.org
X-WR-TIMEZONE:Europe/Madrid
DESCRIPTION:
URI:https://www.montcada.cat/actualitat/agenda/35030-cavallers-reines-i-amazones-histories-i-llegendes-de-montcada.html
CLASS:PUBLIC
END:VEVENT
BEGIN:VEVENT
UID:DI_35250@www.montcada.cat
DTSTAMP:20260425T140720
DTSTART:20260707T100000
DTEND:20260707T130000
SUMMARY:Punt de reparació de petits electrodomèstics
LOCATION:Mercat setmanal Can Sant Joan 
METHOD:PUBLISH
X-WR-CALNAME:oac@montcada.org
X-WR-TIMEZONE:Europe/Madrid
DESCRIPTION:
URI:https://www.montcada.cat/actualitat/agenda/35250-punt-de-reparacio-de-petits-electrodomestics.html
CLASS:PUBLIC
END:VEVENT
BEGIN:VEVENT
UID:DI_34993@www.montcada.cat
DTSTAMP:20260425T140720
DTSTART:20260708T183000
DTEND:20260708T200000
SUMMARY:Benvinguda a Montcada i Reixac
LOCATION:Carrer Major, 32 - Carrer Domènec Fins, 15 08110 Montcada i Reixac
METHOD:PUBLISH
X-WR-CALNAME:oac@montcada.org
X-WR-TIMEZONE:Europe/Madrid
DESCRIPTION:
URI:https://www.montcada.cat/actualitat/agenda/34993-benvinguda-a-montcada-i-reixac.html
CLASS:PUBLIC
END:VEVENT
BEGIN:VEVENT
UID:DI_34994@www.montcada.cat
DTSTAMP:20260425T140720
DTSTART:20261021T183000
DTEND:20261021T200000
SUMMARY:Benvinguda a Montcada i Reixac
LOCATION:Carrer Major, 32 - Carrer Domènec Fins, 15 08110 Montcada i Reixac
METHOD:PUBLISH
X-WR-CALNAME:oac@montcada.org
X-WR-TIMEZONE:Europe/Madrid
DESCRIPTION:
URI:https://www.montcada.cat/actualitat/agenda/34994-benvinguda-a-montcada-i-reixac.html
CLASS:PUBLIC
END:VEVENT
END:VCALENDAR
